Workbook

Sheet MNG
E1: МХБ-ИЙН ГИШҮҮН БРОКЕР ДИЛЕРИЙН КОМПАНИЙН 2019 ОНЫ 2-Р УЛИРЛЫН САНХҮҮГИЙН ТАЙЛАНГИЙН ХУРААНГУЙ ҮЗҮҮЛЭЛТҮҮД
J4: 2019 оны 7-р сарын 10-ны байдлаар
A5: № | B5: Үсгэн код | C5: Компанийн нэр | D5: БАЛАНСЫН ҮЗҮҮЛЭЛТ /Мянган төгрөгөөр/ | J5: МӨНГӨН ГҮЙЛГЭЭНИЙ ҮЗҮҮЛЭЛТ /Мянган төгрөгөөр/ | L5: ОРЛОГЫН ТАЙЛАНГИЙН ҮЗҮҮЛЭЛТ /Мянган төгрөгөөр/
D6: Нийт хөрөнгө | E6: Эргэлтийн хөрөнгө | F6: Эргэлтийн бус хөрөнгө | G6: Богино хугацаат өр төлбөр | H6: Нийт өр төлбөр | I6: Эздийн өмч | J6: Үндсэн үйл ажиллагааны мөнгөн орлого | K6: Үндсэн үйл ажиллагааны мөнгөн зарлага (-) | L6: Үйл ажиллагааны орлого | M6: Тайлант үеийн ашиг (алдагдал)
A7: 1 | B7: GLMT | C7: "ГОЛОМТ КАПИТАЛ ҮЦК" ХХК | D7: 2617089 | E7: 2514886 | F7: 102203.06 | G7: 564556.04 | H7: 564829.04 | I7: 2052260 | J7: 1586860 | K7: -524078.78 | L7: 1502246 | M7: 696884.78
A8: =A7+1 -> 2 | B8: TDB | C8: "ТИ ДИ БИ КАПИТАЛ ҮЦК" ХХК | D8: 28026885 | E8: 26513778 | F8: 1513106.6 | G8: 9649629.2 | H8: 9649629.2 | I8: 18377256 | J8: 1381876 | K8: -408051.1 | L8: 509808.38 | M8: 361914.13
A9: =A8+1 -> 3 | B9: BZIN | C9: "МИРЭ ЭССЭТ СЕКЬЮРИТИС МОНГОЛ ҮЦК" ХХК | D9: 4414076.3 | E9: 4282821.7 | F9: 131254.57 | G9: 67134.83 | H9: 67134.83 | I9: 4346941.5 | J9: 514991.56 | K9: -261098.99 | L9: 623206.08 | M9: 300909.55
A10: =A9+1 -> 4 | B10: INVC | C10: "ИНВЕСКОР КАПИТАЛ ҮЦК" ХХК | D10: 1523738.8 | E10: 1508801.8 | F10: 14937 | G10: 74767.33 | H10: 74767.33 | I10: 1448971.5 | J10: 254190.42 | K10: -38790.46 | L10: 235553.78 | M10: 176559.5
A11: =A10+1 -> 5 | B11: TTOL | C11: "АПЕКС КАПИТАЛ ҮЦК" ХХК | D11: 1924467.4 | E11: 1833340.6 | F11: 91126.74 | G11: 614903.39 | H11: 614903.39 | I11: 1309564 | J11: 124892.55 | K11: -363988.72 | L11: 183997.27 | M11: 30552.18
A12: =A11+1 -> 6 | B12: GDSC | C12: "ГҮҮДСЕК ҮЦК" ХХК | D12: 1363513.4 | E12: 1058223.8 | F12: 305289.54 | G12: 345988.19 | H12: 514325.52 | I12: 849187.83 | J12: 578894.53 | K12: -569356.21 | L12: 320250.6 | M12: 10226.14
A13: =A12+1 -> 7 | B13: STIN | C13: "СТАНДАРТ ИНВЕСТМЕНТ ҮЦК" ХХК | D13: 1257921.2 | E13: 399644.32 | F13: 858276.91 | G13: 66305.98 | H13: 66305.98 | I13: 1191615.2 | J13: 33308.11 | K13: -290884.18 | L13: 107273.47 | M13: 9466.23
A14: =A13+1 -> 8 | B14: SANR | C14: "САНАР ҮЦК" ХХК | D14: 110674.63 | E14: 102023.13 | F14: 8651.5 | G14: 807.41 | H14: 807.41 | I14: 109867.22 | J14: 22024.48 | K14: -19266.77 | L14: 22024.48 | M14: 2732.9
A15: =A14+1 -> 9 | B15: MERG | C15: "МЭРГЭН САНАА ҮЦК" ХХК | D15: 188260.7 | E15: 104064.18 | F15: 84196.51 | G15: 110.49 | H15: 110.49 | I15: 188150.2 | J15: 8950.28 | K15: -7867.45 | L15: 2341.86 | M15: 2107.67
A16: =A15+1 -> 10 | B16: MSEC | C16: "МОНСЕК ҮЦК" ХХК | D16: 243839.69 | E16: 233339.69 | F16: 10500 | G16: 485.5 | H16: 485.5 | I16: 243354.19 | J16: 39873.27 | K16: -38881.34 | L16: 39873.27 | M16: 542.87
A17: =A16+1 -> 11 | B17: UNDR | C17: "ӨНДӨРХААН ИНВЕСТ ҮЦК" ХХК | D17: 119986.54 | E17: 112432.24 | F17: 7554.3 | G17: 405.4 | H17: 405.4 | I17: 119581.13 | J17: 37694.7 | K17: -37153.67 | L17: 37537.71 | M17: 345.64
A18: =A17+1 -> 12 | B18: BUMB | C18: "БУМБАТ-АЛТАЙ ҮЦК" ХХК | D18: 1557.8 | E18: 1526.43 | F18: 31.37 | G18: 1166.34 | H18: 1233.84 | I18: 323.95 | J18: 190.47 | K18: -77.98 | L18: 1290.47 | M18: 3.84
A19: =A18+1 -> 13 | B19: DRBR | C19: "ДАРХАН БРОКЕР ҮЦК" ХХК | D19: 84777.02 | E19: 53169.456 | F19: 31607.56 | G19: 738.36 | H19: 738.36 | I19: 84038.66 | J19: 14465.03 | K19: -16075.72 | L19: 14465.03 | M19: -1382.25
... A32: =A31+1 -> 26 | B32: GNDX | C32: "ГЕНДЕКС ҮЦК" ХХК | D32: 123447.91 | E32: 123343.58 | F32: 104.32 | G32: 67600.22 | H32: 67600.22 | I32: 55847.7 | J32: 3559.43 | K32: -17679.26 | L32: 2439.43 | M32: -21167.46
A33: =A32+1 -> 27 | B33: GDEV | C33: "ГРАНДДЕВЕЛОПМЕНТ ҮЦК" ХХК | D33: 43124.01 | E33: 39662.21 | F33: 3461.8 | G33: 2370.2 | H33: 2370.2 | I33: 40753.81 | J33: 3131.08 | K33: -11016.66 | L33: 1726.57 | M33: =+-22225853/1000 -> -22225.853
A34: =A33+1 -> 28 | B34: NOVL | C34: "НОВЕЛ ИНВЕСТМЕНТ ҮЦК" ХХК | D34: 412640.42 | E34: 396281.25 | F34: 16359.2 | G34: 26784.43 | H34: 26784.43 | I34: 385856 | J34: 19977.54 | K34: -58966.51 | L34: 19874.4 | M34: -34722
A35: =A34+1 -> 29 | B35: SECP | C35: "СИКАП ҮЦК" ХХК | D35: 1439759.5 | E35: 1413111.1 | F35: 26648.46 | G35: 1349.06 | H35: 1349.06 | I35: 1438410.4 | J35: 32043.81 | K35: -95233.1 | L35: 31582.63 | M35: -65912.58
A36: =A35+1 -> 30 | B36: MNET | C36: "АРД СЕКЬЮРИТИЗ ҮЦК" ХХК | D36: 3412910.5 | E36: 3169911.2 | F36: 242999.27 | G36: 551998.64 | H36: 658484.91 | I36: 2754425.5 | J36: 509979.66 | K36: -332746.33 | L36: 404281.97 | M36: -78435.66
A37: =A36+1 -> 31 | B37: TNGR | C37: "ТЭНГЭР КАПИТАЛ ҮЦК" ХХК | D37: 235404.15 | E37: 230211.98 | F37: 5192.17 | G37: 4789.26 | H37: 4789.26 | I37: 230614.9 | J37: 8009.17 | K37: -150646.23 | L37: 7892.03 | M37: -108134.19
A38: =A37+1 -> 32 | B38: GAUL | C38: "ГАҮЛИ ҮЦК" ХХК | D38: 180312.21 | E38: 148797.48 | F38: 31514.73 | G38: 144974.19 | H38: 144974.19 | I38: 35338.02 | J38: 26417.03 | K38: -130112.07 | L38: 26416.81 | M38: -121749.63
A39: =A38+1 -> 33 | B39: BDSC | C39: "БИ ДИ СЕК ҮЦК" ХК | D39: 20996608 | E39: 16199568 | F39: 4797040.6 | G39: 780204.43 | H39: 4501068.4 | I39: 16495540 | J39: 1472493.4 | K39: -2573402.2 | L39: 621672.46 | M39: -696610.32
A40: =A39+1 -> 34 | B40: MICC | C40: "ЭМ АЙ СИ СИ ҮЦК" ХХК
A41: =A40+1 -> 35 | B41: TABO | C41: "ТАВАН БОГД ҮЦК" ХХК
A42: =A41+1 -> 36 | B42: BATS | C42: "БАТС ҮЦК" ХХК | H42: 0
A43: =A42+1 -> 37 | B43: MONG | C43: "МОНГОЛ СЕКЮРИТИЕС ҮЦК" ХК
A44: =A43+1 -> 38 | B44: ARD | C44: "АРД КАПИТАЛ ГРУПП ҮЦК" ХХК
A45: =A44+1 -> 39 | B45: MSDQ | C45: "МАСДАК ҮНЭТ ЦААСНЫ КОМПАНИ" ХХК
A46: =A45+1 -> 40 | B46: DELG | C46: "ДЭЛГЭРХАНГАЙ СЕКЮРИТИЗ ҮЦК" ХХК
A47: =A46+1 -> 41 | B47: ZGB | C47: "ЗЭТ ЖИ БИ ҮЦК" ХХК
A48: =A47+1 -> 42 | B48: GATR | C48: "ГАЦУУРТ ТРЕЙД ҮЦК" ХХК
A49: =A48+1 -> 43 | B49: FRON | C49: "ФРОНТИЕР ҮЦК" ХХК
A50: =A49+1 -> 44 | B50: CTRL | C50: "ЦЕНТРАЛ СЕКЮРИТИЙЗ ҮЦК" ХХК
A51: =A50+1 -> 45 | B51: SILS | C51: "СИЛВЭР ЛАЙТ СЕКЮРИТИЗ ҮЦК" ХХК
A52: =A51+1 -> 46 | B52: ACE | C52: "АСЕ ЭНД Т КАПИТАЛ ҮЦК" ХХК
A53: =A52+1 -> 47 | B53: ECM | C53: "ЕВРАЗИА КАПИТАЛ ХОЛДИНГ ҮЦК" ХК
A54: =A53+1 -> 48 | B54: DCF | C54: "ДИ СИ ЭФ" ХХК
...

Sheet ENG
E1: BRIEF FINANCIAL STATEMENTS FOR THE 2ND QUARTER OF FY2019 OF MEMBER COMPANIES
L4: As of June 30, 2019
A5: № | B5: Symbol | C5: Company name | D5: BALANCE SHEET /by thousand MNT/ | J5: CASH FLOW /by thousand MNT/ | L5: INCOME STATEMENT /by thousand MNT/
D6: Total asset | E6: Current asset | F6: Non-current assets | G6: Short-term debt | H6: Total debt | I6: Owner's Eqiuty | J6: Operating cash income | K6: Operating cash expense | L6: Operating income | M6: Net income (or loss)
A7: 1 | B7: GLMT | C7: GOLOMT CAPITAL | D7: =+VLOOKUP(B7,MNG!$B$7:$M$58,3,0) -> 2617089 | E7: =+VLOOKUP($B7,MNG!$B$7:$M$58,4,0) -> 2514886 | F7: =+VLOOKUP($B7,MNG!$B$7:$M$58,5,0) -> 102203.06 | G7: =+VLOOKUP($B7,MNG!$B$7:$M$58,6,0) -> 564556.04 | H7: =+VLOOKUP($B7,MNG!$B$7:$M$58,7,0) -> 564829.04 | I7: =+VLOOKUP($B7,MNG!$B$7:$M$58,8,0) -> 2052260 | J7: =+VLOOKUP($B7,MNG!$B$7:$M$58,9,0) -> 1586860 | K7: =+VLOOKUP($B7,MNG!$B$7:$M$58,10,0) -> -524078.78 | L7: =+VLOOKUP($B7,MNG!$B$7:$M$58,11,0) -> 1502246 | M7: =+VLOOKUP($B7,MNG!$B$7:$M$58,12,0) -> 696884.78
A8: =A7+1 -> 2 | B8: TDB | C8: TDB CAPITAL | D8: =+VLOOKUP(B8,MNG!$B$7:$M$58,3,0) -> 28026885 | E8: =+VLOOKUP($B8,MNG!$B$7:$M$58,4,0) -> 26513778 | F8: =+VLOOKUP($B8,MNG!$B$7:$M$58,5,0) -> 1513106.6 | G8: =+VLOOKUP($B8,MNG!$B$7:$M$58,6,0) -> 9649629.2 | H8: =+VLOOKUP($B8,MNG!$B$7:$M$58,7,0) -> 9649629.2 | I8: =+VLOOKUP($B8,MNG!$B$7:$M$58,8,0) -> 18377256 | J8: =+VLOOKUP($B8,MNG!$B$7:$M$58,9,0) -> 1381876 | K8: =+VLOOKUP($B8,MNG!$B$7:$M$58,10,0) -> -408051.1 | L8: =+VLOOKUP($B8,MNG!$B$7:$M$58,11,0) -> 509808.38 | M8: =+VLOOKUP($B8,MNG!$B$7:$M$58,12,0) -> 361914.13
A9: =A8+1 -> 3 | B9: BZIN | C9: MIRAE ASSET SECURITIES MONGOLIA | D9: =+VLOOKUP(B9,MNG!$B$7:$M$58,3,0) -> 4414076.3 | E9: =+VLOOKUP($B9,MNG!$B$7:$M$58,4,0) -> 4282821.7 | F9: =+VLOOKUP($B9,MNG!$B$7:$M$58,5,0) -> 131254.57 | G9: =+VLOOKUP($B9,MNG!$B$7:$M$58,6,0) -> 67134.83 | H9: =+VLOOKUP($B9,MNG!$B$7:$M$58,7,0) -> 67134.83 | I9: =+VLOOKUP($B9,MNG!$B$7:$M$58,8,0) -> 4346941.5 | J9: =+VLOOKUP($B9,MNG!$B$7:$M$58,9,0) -> 514991.56 | K9: =+VLOOKUP($B9,MNG!$B$7:$M$58,10,0) -> -261098.99 | L9: =+VLOOKUP($B9,MNG!$B$7:$M$58,11,0) -> 623206.08 | M9: =+VLOOKUP($B9,MNG!$B$7:$M$58,12,0) -> 300909.55
A10: =A9+1 -> 4 | B10: INVC | C10: INVESCORE | D10: =+VLOOKUP(B10,MNG!$B$7:$M$58,3,0) -> 1523738.8 | E10: =+VLOOKUP($B10,MNG!$B$7:$M$58,4,0) -> 1508801.8 | F10: =+VLOOKUP($B10,MNG!$B$7:$M$58,5,0) -> 14937 | G10: =+VLOOKUP($B10,MNG!$B$7:$M$58,6,0) -> 74767.33 | H10: =+VLOOKUP($B10,MNG!$B$7:$M$58,7,0) -> 74767.33 | I10: =+VLOOKUP($B10,MNG!$B$7:$M$58,8,0) -> 1448971.5 | J10: =+VLOOKUP($B10,MNG!$B$7:$M$58,9,0) -> 254190.42 | K10: =+VLOOKUP($B10,MNG!$B$7:$M$58,10,0) -> -38790.46 | L10: =+VLOOKUP($B10,MNG!$B$7:$M$58,11,0) -> 235553.78 | M10: =+VLOOKUP($B10,MNG!$B$7:$M$58,12,0) -> 176559.5
A11: =A10+1 -> 5 | B11: TTOL | C11: APEX CAPITAL | D11: =+VLOOKUP(B11,MNG!$B$7:$M$58,3,0) -> 1924467.4 | E11: =+VLOOKUP($B11,MNG!$B$7:$M$58,4,0) -> 1833340.6 | F11: =+VLOOKUP($B11,MNG!$B$7:$M$58,5,0) -> 91126.74 | G11: =+VLOOKUP($B11,MNG!$B$7:$M$58,6,0) -> 614903.39 | H11: =+VLOOKUP($B11,MNG!$B$7:$M$58,7,0) -> 614903.39 | I11: =+VLOOKUP($B11,MNG!$B$7:$M$58,8,0) -> 1309564 | J11: =+VLOOKUP($B11,MNG!$B$7:$M$58,9,0) -> 124892.55 | K11: =+VLOOKUP($B11,MNG!$B$7:$M$58,10,0) -> -363988.72 | L11: =+VLOOKUP($B11,MNG!$B$7:$M$58,11,0) -> 183997.27 | M11: =+VLOOKUP($B11,MNG!$B$7:$M$58,12,0) -> 30552.18
A12: =A11+1 -> 6 | B12: GDSC | C12: GOODSEC | D12: =+VLOOKUP(B12,MNG!$B$7:$M$58,3,0) -> 1363513.4 | E12: =+VLOOKUP($B12,MNG!$B$7:$M$58,4,0) -> 1058223.8 | F12: =+VLOOKUP($B12,MNG!$B$7:$M$58,5,0) -> 305289.54 | G12: =+VLOOKUP($B12,MNG!$B$7:$M$58,6,0) -> 345988.19 | H12: =+VLOOKUP($B12,MNG!$B$7:$M$58,7,0) -> 514325.52 | I12: =+VLOOKUP($B12,MNG!$B$7:$M$58,8,0) -> 849187.83 | J12: =+VLOOKUP($B12,MNG!$B$7:$M$58,9,0) -> 578894.53 | K12: =+VLOOKUP($B12,MNG!$B$7:$M$58,10,0) -> -569356.21 | L12: =+VLOOKUP($B12,MNG!$B$7:$M$58,11,0) -> 320250.6 | M12: =+VLOOKUP($B12,MNG!$B$7:$M$58,12,0) -> 10226.14
A13: =A12+1 -> 7 | B13: STIN | C13: STANDART INVESTMENT | D13: =+VLOOKUP(B13,MNG!$B$7:$M$58,3,0) -> 1257921.2 | E13: =+VLOOKUP($B13,MNG!$B$7:$M$58,4,0) -> 399644.32 | F13: =+VLOOKUP($B13,MNG!$B$7:$M$58,5,0) -> 858276.91 | G13: =+VLOOKUP($B13,MNG!$B$7:$M$58,6,0) -> 66305.98 | H13: =+VLOOKUP($B13,MNG!$B$7:$M$58,7,0) -> 66305.98 | I13: =+VLOOKUP($B13,MNG!$B$7:$M$58,8,0) -> 1191615.2 | J13: =+VLOOKUP($B13,MNG!$B$7:$M$58,9,0) -> 33308.11 | K13: =+VLOOKUP($B13,MNG!$B$7:$M$58,10,0) -> -290884.18 | L13: =+VLOOKUP($B13,MNG!$B$7:$M$58,11,0) -> 107273.47 | M13: =+VLOOKUP($B13,MNG!$B$7:$M$58,12,0) -> 9466.23
A14: =A13+1 -> 8 | B14: SANR | C14: SANAR | D14: =+VLOOKUP(B14,MNG!$B$7:$M$58,3,0) -> 110674.63 | E14: =+VLOOKUP($B14,MNG!$B$7:$M$58,4,0) -> 102023.13 | F14: =+VLOOKUP($B14,MNG!$B$7:$M$58,5,0) -> 8651.5 | G14: =+VLOOKUP($B14,MNG!$B$7:$M$58,6,0) -> 807.41 | H14: =+VLOOKUP($B14,MNG!$B$7:$M$58,7,0) -> 807.41 | I14: =+VLOOKUP($B14,MNG!$B$7:$M$58,8,0) -> 109867.22 | J14: =+VLOOKUP($B14,MNG!$B$7:$M$58,9,0) -> 22024.48 | K14: =+VLOOKUP($B14,MNG!$B$7:$M$58,10,0) -> -19266.77 | L14: =+VLOOKUP($B14,MNG!$B$7:$M$58,11,0) -> 22024.48 | M14: =+VLOOKUP($B14,MNG!$B$7:$M$58,12,0) -> 2732.9
A15: =A14+1 -> 9 | B15: MERG | C15: MERGEN SANAA | D15: =+VLOOKUP(B15,MNG!$B$7:$M$58,3,0) -> 188260.7 | E15: =+VLOOKUP($B15,MNG!$B$7:$M$58,4,0) -> 104064.18 | F15: =+VLOOKUP($B15,MNG!$B$7:$M$58,5,0) -> 84196.51 | G15: =+VLOOKUP($B15,MNG!$B$7:$M$58,6,0) -> 110.49 | H15: =+VLOOKUP($B15,MNG!$B$7:$M$58,7,0) -> 110.49 | I15: =+VLOOKUP($B15,MNG!$B$7:$M$58,8,0) -> 188150.2 | J15: =+VLOOKUP($B15,MNG!$B$7:$M$58,9,0) -> 8950.28 | K15: =+VLOOKUP($B15,MNG!$B$7:$M$58,10,0) -> -7867.45 | L15: =+VLOOKUP($B15,MNG!$B$7:$M$58,11,0) -> 2341.86 | M15: =+VLOOKUP($B15,MNG!$B$7:$M$58,12,0) -> 2107.67
A16: =A15+1 -> 10 | B16: MSEC | C16: MONSEC | D16: =+VLOOKUP(B16,MNG!$B$7:$M$58,3,0) -> 243839.69 | E16: =+VLOOKUP($B16,MNG!$B$7:$M$58,4,0) -> 233339.69 | F16: =+VLOOKUP($B16,MNG!$B$7:$M$58,5,0) -> 10500 | G16: =+VLOOKUP($B16,MNG!$B$7:$M$58,6,0) -> 485.5 | H16: =+VLOOKUP($B16,MNG!$B$7:$M$58,7,0) -> 485.5 | I16: =+VLOOKUP($B16,MNG!$B$7:$M$58,8,0) -> 243354.19 | J16: =+VLOOKUP($B16,MNG!$B$7:$M$58,9,0) -> 39873.27 | K16: =+VLOOKUP($B16,MNG!$B$7:$M$58,10,0) -> -38881.34 | L16: =+VLOOKUP($B16,MNG!$B$7:$M$58,11,0) -> 39873.27 | M16: =+VLOOKUP($B16,MNG!$B$7:$M$58,12,0) -> 542.87
A17: =A16+1 -> 11 | B17: UNDR | C17: UNDURKHAAN INVEST | D17: =+VLOOKUP(B17,MNG!$B$7:$M$58,3,0) -> 119986.54 | E17: =+VLOOKUP($B17,MNG!$B$7:$M$58,4,0) -> 112432.24 | F17: =+VLOOKUP($B17,MNG!$B$7:$M$58,5,0) -> 7554.3 | G17: =+VLOOKUP($B17,MNG!$B$7:$M$58,6,0) -> 405.4 | H17: =+VLOOKUP($B17,MNG!$B$7:$M$58,7,0) -> 405.4 | I17: =+VLOOKUP($B17,MNG!$B$7:$M$58,8,0) -> 119581.13 | J17: =+VLOOKUP($B17,MNG!$B$7:$M$58,9,0) -> 37694.7 | K17: =+VLOOKUP($B17,MNG!$B$7:$M$58,10,0) -> -37153.67 | L17: =+VLOOKUP($B17,MNG!$B$7:$M$58,11,0) -> 37537.71 | M17: =+VLOOKUP($B17,MNG!$B$7:$M$58,12,0) -> 345.64
A18: =A17+1 -> 12 | B18: BUMB | C18: BUMBAT-ALTAI | D18: =+VLOOKUP(B18,MNG!$B$7:$M$58,3,0) -> 1557.8 | E18: =+VLOOKUP($B18,MNG!$B$7:$M$58,4,0) -> 1526.43 | F18: =+VLOOKUP($B18,MNG!$B$7:$M$58,5,0) -> 31.37 | G18: =+VLOOKUP($B18,MNG!$B$7:$M$58,6,0) -> 1166.34 | H18: =+VLOOKUP($B18,MNG!$B$7:$M$58,7,0) -> 1233.84 | I18: =+VLOOKUP($B18,MNG!$B$7:$M$58,8,0) -> 323.95 | J18: =+VLOOKUP($B18,MNG!$B$7:$M$58,9,0) -> 190.47 | K18: =+VLOOKUP($B18,MNG!$B$7:$M$58,10,0) -> -77.98 | L18: =+VLOOKUP($B18,MNG!$B$7:$M$58,11,0) -> 1290.47 | M18: =+VLOOKUP($B18,MNG!$B$7:$M$58,12,0) -> 3.84
A19: =A58+1 -> 32 | B19: DRBR | C19: DARKHAN BROKER | D19: =+VLOOKUP(B19,MNG!$B$7:$M$58,3,0) -> 84777.02 | E19: =+VLOOKUP($B19,MNG!$B$7:$M$58,4,0) -> 53169.456 | F19: =+VLOOKUP($B19,MNG!$B$7:$M$58,5,0) -> 31607.56 | G19: =+VLOOKUP($B19,MNG!$B$7:$M$58,6,0) -> 738.36 | H19: =+VLOOKUP($B19,MNG!$B$7:$M$58,7,0) -> 738.36 | I19: =+VLOOKUP($B19,MNG!$B$7:$M$58,8,0) -> 84038.66 | J19: =+VLOOKUP($B19,MNG!$B$7:$M$58,9,0) -> 14465.03 | K19: =+VLOOKUP($B19,MNG!$B$7:$M$58,10,0) -> -16075.72 | L19: =+VLOOKUP($B19,MNG!$B$7:$M$58,11,0) -> 14465.03 | M19: =+VLOOKUP($B19,MNG!$B$7:$M$58,12,0) -> -1382.25
A20: =A19+1 -> 33 | B20: LFTI | C20: LIFETIME INVESTMENT | D20: =+VLOOKUP(B20,MNG!$B$7:$M$58,3,0) -> 1197561.5 | E20: =+VLOOKUP($B20,MNG!$B$7:$M$58,4,0) -> 1192561.5 | F20: =+VLOOKUP($B20,MNG!$B$7:$M$58,5,0) -> 5000 | G20: =+VLOOKUP($B20,MNG!$B$7:$M$58,6,0) -> 6769.16 | H20: =+VLOOKUP($B20,MNG!$B$7:$M$58,7,0) -> 6769.16 | I20: =+VLOOKUP($B20,MNG!$B$7:$M$58,8,0) -> 1190792.3 | J20: =+VLOOKUP($B20,MNG!$B$7:$M$58,9,0) -> 17413.74 | K20: =+VLOOKUP($B20,MNG!$B$7:$M$58,10,0) -> 19198.27 | L20: =+VLOOKUP($B20,MNG!$B$7:$M$58,11,0) -> 17413.74 | M20: =+VLOOKUP($B20,MNG!$B$7:$M$58,12,0) -> -3070.53
A21: =A20+1 -> 34 | B21: TCHB | C21: TULGAT CHANDMANI BAYAN | D21: =+VLOOKUP(B21,MNG!$B$7:$M$58,3,0) -> 126941.42 | E21: =+VLOOKUP($B21,MNG!$B$7:$M$58,4,0) -> 95527.8 | F21: =+VLOOKUP($B21,MNG!$B$7:$M$58,5,0) -> 31413.63 | G21: =+VLOOKUP($B21,MNG!$B$7:$M$58,6,0) -> 0 | H21: =+VLOOKUP($B21,MNG!$B$7:$M$58,7,0) -> 0 | I21: =+VLOOKUP($B21,MNG!$B$7:$M$58,8,0) -> 126941.42 | J21: =+VLOOKUP($B21,MNG!$B$7:$M$58,9,0) -> 23285.98 | K21: =+VLOOKUP($B21,MNG!$B$7:$M$58,10,0) -> -26774.7 | L21: =+VLOOKUP($B21,MNG!$B$7:$M$58,11,0) -> 23285.98 | M21: =+VLOOKUP($B21,MNG!$B$7:$M$58,12,0) -> -3242.24
A22: =A21+1 -> 35 | B22: BULG | C22: BULGAN BROKER | D22: =+VLOOKUP(B22,MNG!$B$7:$M$58,3,0) -> 446349.2 | E22: =+VLOOKUP($B22,MNG!$B$7:$M$58,4,0) -> 294589.48 | F22: =+VLOOKUP($B22,MNG!$B$7:$M$58,5,0) -> 151759.73 | G22: =+VLOOKUP($B22,MNG!$B$7:$M$58,6,0) -> 568.77 | H22: =+VLOOKUP($B22,MNG!$B$7:$M$58,7,0) -> 568.77 | I22: =+VLOOKUP($B22,MNG!$B$7:$M$58,8,0) -> 431280.43 | J22: =+VLOOKUP($B22,MNG!$B$7:$M$58,9,0) -> 11938.88 | K22: =+VLOOKUP($B22,MNG!$B$7:$M$58,10,0) -> -38203.29 | L22: =+VLOOKUP($B22,MNG!$B$7:$M$58,11,0) -> 2274.68 | M22: =+VLOOKUP($B22,MNG!$B$7:$M$58,12,0) -> -3939.11
A23: =A22+1 -> 36 | B23: ZRGD | C23: ZERGED | D23: =+VLOOKUP(B23,MNG!$B$7:$M$58,3,0) -> 100059.17 | E23: =+VLOOKUP($B23,MNG!$B$7:$M$58,4,0) -> 59056.6 | F23: =+VLOOKUP($B23,MNG!$B$7:$M$58,5,0) -> 41002.56 | G23: =+VLOOKUP($B23,MNG!$B$7:$M$58,6,0) -> 0 | H23: =+VLOOKUP($B23,MNG!$B$7:$M$58,7,0) -> 0 | I23: =+VLOOKUP($B23,MNG!$B$7:$M$58,8,0) -> 100059.17 | J23: =+VLOOKUP($B23,MNG!$B$7:$M$58,9,0) -> 10989.59 | K23: =+VLOOKUP($B23,MNG!$B$7:$M$58,10,0) -> -14976.08 | L23: =+VLOOKUP($B23,MNG!$B$7:$M$58,11,0) -> 10989.57 | M23: =+VLOOKUP($B23,MNG!$B$7:$M$58,12,0) -> -4456.95
A24: =A23+1 -> 37 | B24: FCX | C24: FCX | D24: =+VLOOKUP(B24,MNG!$B$7:$M$58,3,0) -> 388201.7 | E24: =+VLOOKUP($B24,MNG!$B$7:$M$58,4,0) -> 371259.9 | F24: =+VLOOKUP($B24,MNG!$B$7:$M$58,5,0) -> 16941.8 | G24: =+VLOOKUP($B24,MNG!$B$7:$M$58,6,0) -> 111534.4 | H24: =+VLOOKUP($B24,MNG!$B$7:$M$58,7,0) -> 111534.4 | I24: =+VLOOKUP($B24,MNG!$B$7:$M$58,8,0) -> 276667.3 | J24: =+VLOOKUP($B24,MNG!$B$7:$M$58,9,0) -> 5700 | K24: =+VLOOKUP($B24,MNG!$B$7:$M$58,10,0) -> -10241.5 | L24: =+VLOOKUP($B24,MNG!$B$7:$M$58,11,0) -> 5700 | M24: =+VLOOKUP($B24,MNG!$B$7:$M$58,12,0) -> -5097.9
A25: =A24+1 -> 38 | B25: MIBG | C25: MIBG | D25: =+VLOOKUP(B25,MNG!$B$7:$M$58,3,0) -> 282708.9 | E25: =+VLOOKUP($B25,MNG!$B$7:$M$58,4,0) -> 282706.73 | F25: =+VLOOKUP($B25,MNG!$B$7:$M$58,5,0) -> 2.17 | G25: =+VLOOKUP($B25,MNG!$B$7:$M$58,6,0) -> 175018.78 | H25: =+VLOOKUP($B25,MNG!$B$7:$M$58,7,0) -> 175018.78 | I25: =+VLOOKUP($B25,MNG!$B$7:$M$58,8,0) -> 107690.11 | J25: =+VLOOKUP($B25,MNG!$B$7:$M$58,9,0) -> 9079.1 | K25: =+VLOOKUP($B25,MNG!$B$7:$M$58,10,0) -> -15158.22 | L25: =+VLOOKUP($B25,MNG!$B$7:$M$58,11,0) -> 6904.71 | M25: =+VLOOKUP($B25,MNG!$B$7:$M$58,12,0) -> -6198.97
A26: =A25+1 -> 39 | B26: APS | C26: ASIA PACIFIC SECURITIES | D26: =+VLOOKUP(B26,MNG!$B$7:$M$58,3,0) -> 378058.61 | E26: =+VLOOKUP($B26,MNG!$B$7:$M$58,4,0) -> 377697.3 | F26: =+VLOOKUP($B26,MNG!$B$7:$M$58,5,0) -> 361.32 | G26: =+VLOOKUP($B26,MNG!$B$7:$M$58,6,0) -> 460337.75 | H26: =+VLOOKUP($B26,MNG!$B$7:$M$58,7,0) -> 460337.75 | I26: =+VLOOKUP($B26,MNG!$B$7:$M$58,8,0) -> -82279.14 | J26: =+VLOOKUP($B26,MNG!$B$7:$M$58,9,0) -> 1729.92 | K26: =+VLOOKUP($B26,MNG!$B$7:$M$58,10,0) -> -4659.76 | L26: =+VLOOKUP($B26,MNG!$B$7:$M$58,11,0) -> -177.57 | M26: =+VLOOKUP($B26,MNG!$B$7:$M$58,12,0) -> -6388.65
A27: =A26+1 -> 40 | B27: BLMB | C27: BLOOMSBURY SECURITIES | D27: =+VLOOKUP(B27,MNG!$B$7:$M$58,3,0) -> 718353.86 | E27: =+VLOOKUP($B27,MNG!$B$7:$M$58,4,0) -> 482520.14 | F27: =+VLOOKUP($B27,MNG!$B$7:$M$58,5,0) -> 235883.72 | G27: =+VLOOKUP($B27,MNG!$B$7:$M$58,6,0) -> 57065.41 | H27: =+VLOOKUP($B27,MNG!$B$7:$M$58,7,0) -> 57065.41 | I27: =+VLOOKUP($B27,MNG!$B$7:$M$58,8,0) -> 661288.45 | J27: =+VLOOKUP($B27,MNG!$B$7:$M$58,9,0) -> 25370.16 | K27: =+VLOOKUP($B27,MNG!$B$7:$M$58,10,0) -> -51685.47 | L27: =+VLOOKUP($B27,MNG!$B$7:$M$58,11,0) -> 25370.16 | M27: =+VLOOKUP($B27,MNG!$B$7:$M$58,12,0) -> -6594.67
A28: =A27+1 -> 41 | B28: BSK | C28: BLUESKY SECURITIES | D28: =+VLOOKUP(B28,MNG!$B$7:$M$58,3,0) -> 16685.21 | E28: =+VLOOKUP($B28,MNG!$B$7:$M$58,4,0) -> 636.7 | F28: =+VLOOKUP($B28,MNG!$B$7:$M$58,5,0) -> 16048.51 | G28: =+VLOOKUP($B28,MNG!$B$7:$M$58,6,0) -> 26681.31 | H28: =+VLOOKUP($B28,MNG!$B$7:$M$58,7,0) -> 240888.1 | I28: =+VLOOKUP($B28,MNG!$B$7:$M$58,8,0) -> -224202.89 | J28: =+VLOOKUP($B28,MNG!$B$7:$M$58,9,0) -> 11141.14 | K28: =+VLOOKUP($B28,MNG!$B$7:$M$58,10,0) -> -16889.59 | L28: =+VLOOKUP($B28,MNG!$B$7:$M$58,11,0) -> 24584.42 | M28: =+VLOOKUP($B28,MNG!$B$7:$M$58,12,0) -> -8973.62
A29: =A28+1 -> 42 | B29: HUN | C29: HUNNU EMPIRE | D29: =+VLOOKUP(B29,MNG!$B$7:$M$58,3,0) -> 282111.03 | E29: =+VLOOKUP($B29,MNG!$B$7:$M$58,4,0) -> 274184.11 | F29: =+VLOOKUP($B29,MNG!$B$7:$M$58,5,0) -> 7926.92 | G29: =+VLOOKUP($B29,MNG!$B$7:$M$58,6,0) -> 0 | H29: =+VLOOKUP($B29,MNG!$B$7:$M$58,7,0) -> 0 | I29: =+VLOOKUP($B29,MNG!$B$7:$M$58,8,0) -> 282111.03 | J29: =+VLOOKUP($B29,MNG!$B$7:$M$58,9,0) -> 16436.53 | K29: =+VLOOKUP($B29,MNG!$B$7:$M$58,10,0) -> -31448.93 | L29: =+VLOOKUP($B29,MNG!$B$7:$M$58,11,0) -> 10969.53 | M29: =+VLOOKUP($B29,MNG!$B$7:$M$58,12,0) -> -12484
A30: =A29+1 -> 43 | B30: ALTN | C30: ALTAN KHOROMSOG | D30: =+VLOOKUP(B30,MNG!$B$7:$M$58,3,0) -> 971284.37 | E30: =+VLOOKUP($B30,MNG!$B$7:$M$58,4,0) -> 970284.37 | F30: =+VLOOKUP($B30,MNG!$B$7:$M$58,5,0) -> 1000 | G30: =+VLOOKUP($B30,MNG!$B$7:$M$58,6,0) -> 858024.93 | H30: =+VLOOKUP($B30,MNG!$B$7:$M$58,7,0) -> 870316.77 | I30: =+VLOOKUP($B30,MNG!$B$7:$M$58,8,0) -> 52865.1 | J30: =+VLOOKUP($B30,MNG!$B$7:$M$58,9,0) -> 1698.35 | K30: =+VLOOKUP($B30,MNG!$B$7:$M$58,10,0) -> -4833.07 | L30: =+VLOOKUP($B30,MNG!$B$7:$M$58,11,0) -> -2604.59 | M30: =+VLOOKUP($B30,MNG!$B$7:$M$58,12,0) -> -15688.66
A31: =A30+1 -> 44 | B31: SGC | C31: SG CAPITAL | D31: =+VLOOKUP(B31,MNG!$B$7:$M$58,3,0) -> 543182.04 | E31: =+VLOOKUP($B31,MNG!$B$7:$M$58,4,0) -> 533891.87 | F31: =+VLOOKUP($B31,MNG!$B$7:$M$58,5,0) -> 9290.13 | G31: =+VLOOKUP($B31,MNG!$B$7:$M$58,6,0) -> 3795.5 | H31: =+VLOOKUP($B31,MNG!$B$7:$M$58,7,0) -> 3795.5 | I31: =+VLOOKUP($B31,MNG!$B$7:$M$58,8,0) -> 539386.5 | J31: =+VLOOKUP($B31,MNG!$B$7:$M$58,9,0) -> 1624.97 | K31: =+VLOOKUP($B31,MNG!$B$7:$M$58,10,0) -> -16321.42 | L31: =+VLOOKUP($B31,MNG!$B$7:$M$58,11,0) -> 1624.97 | M31: =+VLOOKUP($B31,MNG!$B$7:$M$58,12,0) -> -16936.65
... A39: =A38+1 -> 52 | B39: BDSC | C39: BDSEC | D39: =+VLOOKUP(B39,MNG!$B$7:$M$58,3,0) -> 20996608 | E39: =+VLOOKUP($B39,MNG!$B$7:$M$58,4,0) -> 16199568 | F39: =+VLOOKUP($B39,MNG!$B$7:$M$58,5,0) -> 4797040.6 | G39: =+VLOOKUP($B39,MNG!$B$7:$M$58,6,0) -> 780204.43 | H39: =+VLOOKUP($B39,MNG!$B$7:$M$58,7,0) -> 4501068.4 | I39: =+VLOOKUP($B39,MNG!$B$7:$M$58,8,0) -> 16495540 | J39: =+VLOOKUP($B39,MNG!$B$7:$M$58,9,0) -> 1472493.4 | K39: =+VLOOKUP($B39,MNG!$B$7:$M$58,10,0) -> -2573402.2 | L39: =+VLOOKUP($B39,MNG!$B$7:$M$58,11,0) -> 621672.46 | M39: =+VLOOKUP($B39,MNG!$B$7:$M$58,12,0) -> -696610.32
A40: =A18+1 -> 13 | B40: MICC | C40: MICC | D40: =+VLOOKUP(B40,MNG!$B$7:$M$58,3,0) -> 0 | E40: =+VLOOKUP($B40,MNG!$B$7:$M$58,4,0) -> 0 | F40: =+VLOOKUP($B40,MNG!$B$7:$M$58,5,0) -> 0 | G40: =+VLOOKUP($B40,MNG!$B$7:$M$58,6,0) -> 0 | H40: =+VLOOKUP($B40,MNG!$B$7:$M$58,7,0) -> 0 | I40: =+VLOOKUP($B40,MNG!$B$7:$M$58,8,0) -> 0 | J40: =+VLOOKUP($B40,MNG!$B$7:$M$58,9,0) -> 0 | K40: =+VLOOKUP($B40,MNG!$B$7:$M$58,10,0) -> 0 | L40: =+VLOOKUP($B40,MNG!$B$7:$M$58,11,0) -> 0 | M40: =+VLOOKUP($B40,MNG!$B$7:$M$58,12,0) -> 0
A41: =A40+1 -> 14 | B41: TABO | C41: TAVAN BOGD | D41: =+VLOOKUP(B41,MNG!$B$7:$M$58,3,0) -> 0 | E41: =+VLOOKUP($B41,MNG!$B$7:$M$58,4,0) -> 0 | F41: =+VLOOKUP($B41,MNG!$B$7:$M$58,5,0) | G41: =+VLOOKUP($B41,MNG!$B$7:$M$58,6,0) -> 0 | H41: =+VLOOKUP($B41,MNG!$B$7:$M$58,7,0) -> 0 | I41: =+VLOOKUP($B41,MNG!$B$7:$M$58,8,0) -> 0 | J41: =+VLOOKUP($B41,MNG!$B$7:$M$58,9,0) -> 0 | K41: =+VLOOKUP($B41,MNG!$B$7:$M$58,10,0) -> 0 | L41: =+VLOOKUP($B41,MNG!$B$7:$M$58,11,0) -> 0 | M41: =+VLOOKUP($B41,MNG!$B$7:$M$58,12,0) -> 0
A42: =A41+1 -> 15 | B42: BATS | C42: BATS | D42: =+VLOOKUP(B42,MNG!$B$7:$M$58,3,0) -> 0 | E42: =+VLOOKUP($B42,MNG!$B$7:$M$58,4,0) -> 0 | F42: =+VLOOKUP($B42,MNG!$B$7:$M$58,5,0) -> 0 | G42: =+VLOOKUP($B42,MNG!$B$7:$M$58,6,0) -> 0 | H42: =+VLOOKUP($B42,MNG!$B$7:$M$58,7,0) -> 0 | I42: =+VLOOKUP($B42,MNG!$B$7:$M$58,8,0) -> 0 | J42: =+VLOOKUP($B42,MNG!$B$7:$M$58,9,0) -> 0 | K42: =+VLOOKUP($B42,MNG!$B$7:$M$58,10,0) -> 0 | L42: =+VLOOKUP($B42,MNG!$B$7:$M$58,11,0) -> 0 | M42: =+VLOOKUP($B42,MNG!$B$7:$M$58,12,0) -> 0
A43: =A42+1 -> 16 | B43: MONG | C43: MONGOL SECURITIES | D43: =+VLOOKUP(B43,MNG!$B$7:$M$58,3,0) -> 0 | E43: =+VLOOKUP($B43,MNG!$B$7:$M$58,4,0) -> 0 | F43: =+VLOOKUP($B43,MNG!$B$7:$M$58,5,0) -> 0 | G43: =+VLOOKUP($B43,MNG!$B$7:$M$58,6,0) -> 0 | H43: =+VLOOKUP($B43,MNG!$B$7:$M$58,7,0) -> 0 | I43: =+VLOOKUP($B43,MNG!$B$7:$M$58,8,0) -> 0 | J43: =+VLOOKUP($B43,MNG!$B$7:$M$58,9,0) -> 0 | K43: =+VLOOKUP($B43,MNG!$B$7:$M$58,10,0) -> 0 | L43: =+VLOOKUP($B43,MNG!$B$7:$M$58,11,0) -> 0 | M43: =+VLOOKUP($B43,MNG!$B$7:$M$58,12,0) -> 0
A44: =A43+1 -> 17 | B44: ARD | C44: ARD CAPITAL GROUP | D44: =+VLOOKUP(B44,MNG!$B$7:$M$58,3,0) -> 0 | E44: =+VLOOKUP($B44,MNG!$B$7:$M$58,4,0) -> 0 | F44: =+VLOOKUP($B44,MNG!$B$7:$M$58,5,0) -> 0 | G44: =+VLOOKUP($B44,MNG!$B$7:$M$58,6,0) -> 0 | H44: =+VLOOKUP($B44,MNG!$B$7:$M$58,7,0) -> 0 | I44: =+VLOOKUP($B44,MNG!$B$7:$M$58,8,0) -> 0 | J44: =+VLOOKUP($B44,MNG!$B$7:$M$58,9,0) -> 0 | K44: =+VLOOKUP($B44,MNG!$B$7:$M$58,10,0) -> 0 | L44: =+VLOOKUP($B44,MNG!$B$7:$M$58,11,0) -> 0 | M44: =+VLOOKUP($B44,MNG!$B$7:$M$58,12,0) -> 0
A45: =A44+1 -> 18 | B45: MSDQ | C45: MASDAQ | D45: =+VLOOKUP(B45,MNG!$B$7:$M$58,3,0) -> 0 | E45: =+VLOOKUP($B45,MNG!$B$7:$M$58,4,0) -> 0 | F45: =+VLOOKUP($B45,MNG!$B$7:$M$58,5,0) -> 0 | G45: =+VLOOKUP($B45,MNG!$B$7:$M$58,6,0) -> 0 | H45: =+VLOOKUP($B45,MNG!$B$7:$M$58,7,0) -> 0 | I45: =+VLOOKUP($B45,MNG!$B$7:$M$58,8,0) -> 0 | J45: =+VLOOKUP($B45,MNG!$B$7:$M$58,9,0) -> 0 | K45: =+VLOOKUP($B45,MNG!$B$7:$M$58,10,0) -> 0 | L45: =+VLOOKUP($B45,MNG!$B$7:$M$58,11,0) -> 0 | M45: =+VLOOKUP($B45,MNG!$B$7:$M$58,12,0) -> 0
A46: =A45+1 -> 19 | B46: DELG | C46: DELGERKHANGAI SECURITIES | D46: =+VLOOKUP(B46,MNG!$B$7:$M$58,3,0) -> 0 | E46: =+VLOOKUP($B46,MNG!$B$7:$M$58,4,0) -> 0 | F46: =+VLOOKUP($B46,MNG!$B$7:$M$58,5,0) -> 0 | G46: =+VLOOKUP($B46,MNG!$B$7:$M$58,6,0) -> 0 | H46: =+VLOOKUP($B46,MNG!$B$7:$M$58,7,0) -> 0 | I46: =+VLOOKUP($B46,MNG!$B$7:$M$58,8,0) -> 0 | J46: =+VLOOKUP($B46,MNG!$B$7:$M$58,9,0) -> 0 | K46: =+VLOOKUP($B46,MNG!$B$7:$M$58,10,0) -> 0 | L46: =+VLOOKUP($B46,MNG!$B$7:$M$58,11,0) -> 0 | M46: =+VLOOKUP($B46,MNG!$B$7:$M$58,12,0) -> 0
A47: =A46+1 -> 20 | B47: ZGB | C47: ZGB | D47: =+VLOOKUP(B47,MNG!$B$7:$M$58,3,0) -> 0 | E47: =+VLOOKUP($B47,MNG!$B$7:$M$58,4,0) -> 0 | F47: =+VLOOKUP($B47,MNG!$B$7:$M$58,5,0) -> 0 | G47: =+VLOOKUP($B47,MNG!$B$7:$M$58,6,0) -> 0 | H47: =+VLOOKUP($B47,MNG!$B$7:$M$58,7,0) -> 0 | I47: =+VLOOKUP($B47,MNG!$B$7:$M$58,8,0) -> 0 | J47: =+VLOOKUP($B47,MNG!$B$7:$M$58,9,0) -> 0 | K47: =+VLOOKUP($B47,MNG!$B$7:$M$58,10,0) -> 0 | L47: =+VLOOKUP($B47,MNG!$B$7:$M$58,11,0) -> 0 | M47: =+VLOOKUP($B47,MNG!$B$7:$M$58,12,0) -> 0
A48: =A47+1 -> 21 | B48: GATR | C48: GATSUURT TRADE | D48: =+VLOOKUP(B48,MNG!$B$7:$M$58,3,0) -> 0 | E48: =+VLOOKUP($B48,MNG!$B$7:$M$58,4,0) -> 0 | F48: =+VLOOKUP($B48,MNG!$B$7:$M$58,5,0) -> 0 | G48: =+VLOOKUP($B48,MNG!$B$7:$M$58,6,0) -> 0 | H48: =+VLOOKUP($B48,MNG!$B$7:$M$58,7,0) -> 0 | I48: =+VLOOKUP($B48,MNG!$B$7:$M$58,8,0) -> 0 | J48: =+VLOOKUP($B48,MNG!$B$7:$M$58,9,0) -> 0 | K48: =+VLOOKUP($B48,MNG!$B$7:$M$58,10,0) -> 0 | L48: =+VLOOKUP($B48,MNG!$B$7:$M$58,11,0) -> 0 | M48: =+VLOOKUP($B48,MNG!$B$7:$M$58,12,0) -> 0
A49: =A48+1 -> 22 | B49: FRON | C49: FRONTIER | D49: =+VLOOKUP(B49,MNG!$B$7:$M$58,3,0) -> 0 | E49: =+VLOOKUP($B49,MNG!$B$7:$M$58,4,0) -> 0 | F49: =+VLOOKUP($B49,MNG!$B$7:$M$58,5,0) -> 0 | G49: =+VLOOKUP($B49,MNG!$B$7:$M$58,6,0) -> 0 | H49: =+VLOOKUP($B49,MNG!$B$7:$M$58,7,0) -> 0 | I49: =+VLOOKUP($B49,MNG!$B$7:$M$58,8,0) -> 0 | J49: =+VLOOKUP($B49,MNG!$B$7:$M$58,9,0) -> 0 | K49: =+VLOOKUP($B49,MNG!$B$7:$M$58,10,0) -> 0 | L49: =+VLOOKUP($B49,MNG!$B$7:$M$58,11,0) -> 0 | M49: =+VLOOKUP($B49,MNG!$B$7:$M$58,12,0) -> 0
...
